BEGIN:VCALENDAR
VERSION:2.0
PRODID:-//Japanese Medical Society of America - ECPv6.15.20//NONSGML v1.0//EN
CALSCALE:GREGORIAN
METHOD:PUBLISH
X-WR-CALNAME:Japanese Medical Society of America
X-ORIGINAL-URL:https://www.jmsa.org
X-WR-CALDESC:Events for Japanese Medical Society of America
REFRESH-INTERVAL;VALUE=DURATION:PT1H
X-Robots-Tag:noindex
X-PUBLISHED-TTL:PT1H
BEGIN:VTIMEZONE
TZID:America/New_York
BEGIN:DAYLIGHT
TZOFFSETFROM:-0500
TZOFFSETTO:-0400
TZNAME:EDT
DTSTART:20190310T070000
END:DAYLIGHT
BEGIN:STANDARD
TZOFFSETFROM:-0400
TZOFFSETTO:-0500
TZNAME:EST
DTSTART:20191103T060000
END:STANDARD
BEGIN:DAYLIGHT
TZOFFSETFROM:-0500
TZOFFSETTO:-0400
TZNAME:EDT
DTSTART:20200308T070000
END:DAYLIGHT
BEGIN:STANDARD
TZOFFSETFROM:-0400
TZOFFSETTO:-0500
TZNAME:EST
DTSTART:20201101T060000
END:STANDARD
BEGIN:DAYLIGHT
TZOFFSETFROM:-0500
TZOFFSETTO:-0400
TZNAME:EDT
DTSTART:20210314T070000
END:DAYLIGHT
BEGIN:STANDARD
TZOFFSETFROM:-0400
TZOFFSETTO:-0500
TZNAME:EST
DTSTART:20211107T060000
END:STANDARD
END:VTIMEZONE
BEGIN:VEVENT
DTSTART;TZID=America/New_York:20200919T190000
DTEND;TZID=America/New_York:20200919T203000
DTSTAMP:20260421T165705
CREATED:20200215T233631Z
LAST-MODIFIED:20210803T124134Z
UID:107242-1600542000-1600547400@www.jmsa.org
SUMMARY:The Japanese Medical Society of America 48th Annual Dinner
DESCRIPTION:JMSA: on the Front Lines\nA Virtual Journey\n\n\nThe Japanese Medical Society of America (JMSA) cordially invites you to attend our 48th Annual Dinner Celebration.\n\n\nDate: \nSaturday September 19th 2020 7pm EST\n(Sept 20th 8am\, Japan Time)\n\nYou can download a formal invitation (pdf file) card from here.\nWe look forward to having you join us virtually on September 19th 2020.\n\nPlease kindly register online by September 5th.\n\n*How to join the online session will be announced to participants.\n\n\n\nIndividual Registration\nSuggested donation \n\nIndividuals: $200\nMedical Student/Fellow/Doctor-in-Training: $25\n\nTo register\, please fill in the form below and follow the steps.\n\n\n\n  \n\n\n\n *Name (required)\n \n \nIndividualsMedical Student/Fellow/Doctor-in-Training\n \n *Email (required)\n \n \n Phone Number\n \n \n Address\n \n \n Your Message or Note to JMSA (optional)\n \n \n\n \nPlease donate via Paypal in the next step\n \n\n Δ \n\n\n\n\n\n\n\nBenefactor Registration\nIf you are interested to be a Benefactor\, please print out the filled out form below and mail check payable to Japanese Medical Society of America or J.M.S.A.\n\nPlatinum Benefactor: $10\,000.00\nGold Benefactor : $7\,000.00\nSilver Benefactor: $4\,000.00\n\n\nDownload Benefactor Registration Form \nSend check to:\n\nJ.M.S.A.\n100 Park Avenue\, Suite 1600\nNew York\, N.Y.  10017\n\n*Please indicate on check: for JMSA 48th Annual Virtual Dinner\n\nAll donations will support the JMSA General Charitable Fund.\n\nIf you have any questions\, please contact Mr. Yoshio Kano directly at (914) 433- 3210 or email: info@jmsa.org.\n\n\n\nDonation\nPlease donate to following fund. Any amount is appreciated.\n\nJMSA General Charitable Fund\nJMSA Community Outreach Program (JCOP)\nJMSA Scholarship Fund\n\n\n\n\n\n\n\n\n\n\n*JMSA is a 501(c)(3) tax exempt organization and your generous donations will enable JMSA to continue supporting the Japanese community.
URL:https://www.jmsa.org/event/the-japanese-medical-society-of-america-48th-annual-dinner/
LOCATION:Online Session
CATEGORIES:Annual Dinner
ATTACH;FMTTYPE=image/png:https://www.jmsa.org/wp-content/uploads/jmsa-annual-dinner-2020-R2-1.png
ORGANIZER;CN="JMSA/%E7%B1%B3%E5%9B%BD%E6%97%A5%E6%9C%AC%E4%BA%BA%E5%8C%BB%E5%B8%AB%E4%BC%9A":MAILTO:info@jmsa.org
END:VEVENT
END:VCALENDAR